BEGIN:VCALENDAR
VERSION:2.0
PRODID:-//Coordinación General de Formación Profesional - ECPv6.15.15//NONSGML v1.0//EN
CALSCALE:GREGORIAN
METHOD:PUBLISH
X-ORIGINAL-URL:https://cgfp.uabc.mx
X-WR-CALDESC:Events for Coordinación General de Formación Profesional
REFRESH-INTERVAL;VALUE=DURATION:PT1H
X-Robots-Tag:noindex
X-PUBLISHED-TTL:PT1H
BEGIN:VTIMEZONE
TZID:UTC
BEGIN:STANDARD
TZOFFSETFROM:+0000
TZOFFSETTO:+0000
TZNAME:UTC
DTSTART:20240101T000000
END:STANDARD
END:VTIMEZONE
BEGIN:VEVENT
DTSTART;VALUE=DATE:20260216
DTEND;VALUE=DATE:20260302
DTSTAMP:20260420T133451
CREATED:20260218T204609Z
LAST-MODIFIED:20260218T204609Z
UID:12335-1771200000-1772409599@cgfp.uabc.mx
SUMMARY:Convocatoria Semestral PFFDD para docentes 2026-1
DESCRIPTION:¡Estimables docentes! \nLa Coordinación General de Formación Profesional a través del Departamento de Formación y Evaluación Docente\, se complace en informar que a partir del 16 de febrero inició la inscripción a la oferta de cursos de formación docente del Programa Flexible de Formación y Desarrollo Docente (PFFDD) en modalidad en línea. Las inscripciones se cerrarán el 01 de marzo de 2026. \nAdjuntamos la convocatoria semestral 2026-1 con la información detallada acerca de los cursos y formatos disponibles. \nLa inscripción a los cursos de la CONVOCATORIA SEMESTRAL 2026-1 se realiza dentro del Sistema de Formación y Desarrollo Docente (SIFODD): para ello deberá ingresar al sistema: https://siii.uabc.mx/\, con su correo y contraseña institucionales; posteriormente ubicar la pestaña “Académicos” en el apartado cursos para académicos “SIFODD”  \nDe la misma manera les recordamos que nuestra oferta de cursos en modalidad autoadministrada se encuentra abierta de forma permanente durante el semestre actual\, para acceder a los cursos de esta modalidad\, deberán dirigirse al siguiente enlace: https://forms.gle/mMDGk78zcYbU84QW8 \nCualquier duda favor de dirigirse a: \nDr. Leonard Maldonado Zavala \nformaciondocente@uabc.edu.mx  \n\nDepartamento de Formación y Evaluación Docente \nCoordinación General de Formación Profesional
URL:https://cgfp.uabc.mx/event/convocatoria-semestral-pffdd-para-docentes-2026-1/
CATEGORIES:principal
END:VEVENT
BEGIN:VEVENT
DTSTART;VALUE=DATE:20250903
DTEND;VALUE=DATE:20250916
DTSTAMP:20260420T133451
CREATED:20250904T002212Z
LAST-MODIFIED:20250904T164655Z
UID:11278-1756857600-1757980799@cgfp.uabc.mx
SUMMARY:Convocatoria Semestal PFFDD para docentes 2025-2
DESCRIPTION:¡Estimables docentes! \nLa Coordinación General de Formación Profesional a través del Departamento de Formación y Evaluación Docente\, se complace en informar\nque a partir del del 03 de septiembre inicia la inscripción a la oferta de cursos de formación docente del Programa Flexible de Formación y Desarrollo Docente\n(PFFDD) en modalidad en línea. Las inscripciones cerrarán el 15 de septiembre de 2025. Adjuntamos la convocatoria con la información detallada acerca de los cursos y formatos disponibles. \nLa inscripción se realiza dentro del Sistema de Formación y Desarrollo Docente (SIFODD): para ello deberá ingresar al sistema: https://siii.uabc.mx/\, con su correo y contraseña institucionales; posteriormente ubicar la pestaña “Académicos” en el apartado cursos para académicos “SIFODD”. \n\nDe la misma manera les recordamos que nuestra oferta de cursos en modalidad autoadministrada y semiautoadministrado se encuentra abierta de manera permanente durante el semestre actual\,\nLos cursos que se encuentran en esta modalidad son:\nAcciones sustentables y docencia universitaria\nAplicaciones de la IA en la docencia\nBases para la actualización del diseño curricular\nBlackboard para cursos mediados por TIC\nCompetencias básicas para la docencia\nConducción de cursos mediados por TIC\nDiseño instruccional de cursos mediados por TIC\nDocencia\, cultura de paz y derechos humanos\nCultura de la evaluación y mejora continua: La UABC en sinergia con el SEAES\nIntegridad Académica y producción Científica\nInducción a la docencia universitaria\nIntroducción a las metodologías activas\nIntroducción al pensamiento crítico\nNormatividad para la práctica docente en la UABC\nPlaneación para la evaluación del aprendizaje\nPrevención de la violencia de género en el ámbito universitario\nUso del Chatgpt en la Docencia Universitaria\n\nTambién los cursos en la oferta de @prende.mx\n1) Herramientas para Desaprender y Aprender: Aplicación Didáctica\nLa liga para la inscripción a cursos en esta modalidad es la siguiente:\nhttps://cursos.aprende.gob.mx/courses/course-v1:UABC+HPDY25094X+2025_09/about
URL:https://cgfp.uabc.mx/event/convocatoria-semestal-pffdd-para-docentes-2025-2/
CATEGORIES:principal
END:VEVENT
BEGIN:VEVENT
DTSTART;VALUE=DATE:20250818
DTEND;VALUE=DATE:20251220
DTSTAMP:20260420T133451
CREATED:20250819T185446Z
LAST-MODIFIED:20250819T190118Z
UID:11092-1755475200-1766188799@cgfp.uabc.mx
SUMMARY:Cursos autoadministrados semestre 2025-2
DESCRIPTION:La oferta de cursos autoadministrados correspondientes al semestre 2025-2\, desarrollados como parte del Programa de Formación y Desarrollo Docente de la UABC \n Periodo de desarrollo: del 18 de agosto al 19 de diciembre de 2025\n Inscripción permanente: de lunes a viernes\n Inicio de curso: cada lunes posterior al registro\n Modalidad: completamente autogestiva\, permitiendo al participante avanzar a su propio ritmo\n Enlace de inscripción: https://forms.gle/yzpgTmmBitYjS5VA7 \n  \nEntre las novedades más relevantes\, destacamos lo siguiente: \nSe ha actualizado en contenido y horas los cursos de formación mínima para impartir clases en Blackboard\, fortaleciendo el enfoque en el uso pedagógico de las TIC. \nSe incorporaron dos cursos diseñados especialmente para docentes de nuevo ingreso: \n\nInducción a la docencia universitaria (15 h)\nNormatividad para la práctica docente en la UABC (10 h)\n\nAsimismo\, les extendemos una invitación abierta al profesorado universitario para proponer nuevas temáticas de interés que puedan fortalecer la oferta futura de formación\, en beneficio de nuestra comunidad académica. \nFinalmente\, en caso de que haya habido cambios recientes en la responsable o el responsable de formación docente en su unidad académica\, les agradeceremos mucho nos lo hagan saber\, con el fin de mantener actualizada nuestra lista de distribución y asegurar una comunicación efectiva.
URL:https://cgfp.uabc.mx/event/cursos-autoadministrados-correspondientes-al-semestre-2025-2/
CATEGORIES:principal
END:VEVENT
BEGIN:VEVENT
DTSTART;TZID=UTC:20250624T100000
DTEND;TZID=UTC:20250624T100000
DTSTAMP:20260420T133451
CREATED:20250609T205559Z
LAST-MODIFIED:20250609T205626Z
UID:10004-1750759200-1750759200@cgfp.uabc.mx
SUMMARY:UNIVERSIDAD Y SOSTENIBILIDAD: ACCIONES DE LA UABC A TRAVÉS DEL OBSERVATORIO ODS
DESCRIPTION:Están invitados a nuestra siguiente charla virtual UNIVERSIDAD Y SOSTENIBILIDAD: ACCIONES DE LA UABC A TRAVÉS DEL OBSERVATORIO ODS este 24 de junio a las 10:00 am (UTC-7) a través de nuestro canal de Youtube
URL:https://cgfp.uabc.mx/event/universidad-y-sostenibilidad-acciones-de-la-uabc-a-traves-del-observatorio-ods/
CATEGORIES:webinars
END:VEVENT
BEGIN:VEVENT
DTSTART;TZID=UTC:20250611T100000
DTEND;TZID=UTC:20250611T120000
DTSTAMP:20260420T133451
CREATED:20250609T204547Z
LAST-MODIFIED:20250609T204745Z
UID:9999-1749636000-1749643200@cgfp.uabc.mx
SUMMARY:CHARLA VIRTUAL: IA EN LA EDUCACIÓN: LAS NUEVAS FUNCIONALIDADES QUE COURSERA NOS TRAE
DESCRIPTION:Estan cordialmente invitados a nuestra siguiente CHARLA VIRTUAL: IA EN LA EDUCACIÓN: LAS NUEVAS FUNCIONALIDADES QUE COURSERA NOS TRAE\nimpartida por Jorge Carmona Leite\, este 11 de Junio a las 10:00 AM (UTC-7) a través de nuestro canal de Youtube\nEnlace de registro: Aquí\nCANAL DE YOUTUBE: https://www.youtube.com/@Formaciondocente-UABC \n \n  \n  \n  \n  \n  \n  \n 
URL:https://cgfp.uabc.mx/event/charla-virtual-ia-en-la-educacion-las-nuevas-funcionalidades-que-coursera-nos-trae/
CATEGORIES:webinars
END:VEVENT
BEGIN:VEVENT
DTSTART;VALUE=DATE:20250609
DTEND;VALUE=DATE:20250802
DTSTAMP:20260420T133451
CREATED:20250609T203151Z
LAST-MODIFIED:20250610T183047Z
UID:9995-1749427200-1754092799@cgfp.uabc.mx
SUMMARY:CURSO EN LÍNEA: BASES PARA LA ACTUALIZACIÓN DEL DISEÑO CURRICULAR
DESCRIPTION:Con el propósito de fortalecer el proceso de diseño curricular de la UABC los conocimientos y herramientas necesarias para comprender sus fundamentos\, etapas y estrategias pedagógicas clave\, la Universidad Autónoma de Baja California (UABC) lanzó el curso en línea “Bases para la Actualización del Diseño Curricular”\, dirigido al personal académico de las unidades académicas de todos los campus. \nEste curso fue desarrollado por el Departamento de Diseño Curricular en conjunto con el Departamento de Formación y Evaluación Docente  y forma parte del Programa Flexible de Formación y Desarrollo Docente y tiene como objetivo sensibilizar a la comunidad universitaria a través de la reflexión de elementos clave del contexto contemporáneo y del modelo educativo institucional\, tales como inteligencia artificial\, metodologías activas\, evaluación de desempeños\, cultura de paz\, habilidades blandas\, formación integral y el uso de bibliotecas\, para fortalecer la calidad de los programas educativos y el perfil de egreso del estudiantado. \nA través de siete módulos\, el curso permite al profesorado tendrá la oportunidad de profundizar en los pilares clave que conforman una evaluación educativa integral\, contextualizada y alineada con los retos contemporáneos. El recorrido inicia con el análisis de la Política Nacional de Evaluación y Acreditación de la Educación Superior (SEAES)\, para luego adentrarse en la integración de la Inteligencia Artificial en la docencia\, potenciando así la innovación educativa. Posteriormente\, se exploran las Metodologías Activas como herramientas para un diseño curricular dinámico y participativo\, y se aborda el enfoque institucional de Evaluación en la UABC. El trayecto formativo continúa con la incorporación de una Cultura de Paz como eje transversal del currículo\, seguido por una unidad dedicada a la Formación Integral\, donde se trabajan habilidades blandas\, competencias genéricas y el bienestar como parte esencial del quehacer docente. Finalmente\, se presentan los Recursos Físicos y Digitales Cimarrón\, con énfasis en las bibliotecas universitarias como aliadas clave para la mejora continua del proceso formativo. Cada unidad contempla metas específicas con valores ponderados\, lo que permite una evaluación clara\, formativa y alineada a los objetivos institucionales. \nEnlace a inscripción: https://docs.google.com/forms/d/e/1FAIpQLSemYSdaVNxSKY-FshVVXBCsH54jvcWyDMaMYxlfSuJvn1oJNA/viewform?usp=sharing&ouid=114930455791574694903 \nLa mecánica de inscripción es la siguiente\, los días viernes de cada semana se realiza corte de inscripciones y se da de alta a los docentes registrados en el periodo. \nLa fecha de cierre del curso es el 1 de agosto de 2025.
URL:https://cgfp.uabc.mx/event/curso-en-linea-bases-para-la-actualizacion-del-diseno-curricular/
CATEGORIES:principal
END:VEVENT
BEGIN:VEVENT
DTSTART;TZID=UTC:20250514T100000
DTEND;TZID=UTC:20250514T233000
DTSTAMP:20260420T133451
CREATED:20250513T164014Z
LAST-MODIFIED:20250513T164208Z
UID:9923-1747216800-1747265400@cgfp.uabc.mx
SUMMARY:¿Cómo hacer de la docencia algo épico? El potencial y los retos de la transversalización de la sustentabilidad en la educación
DESCRIPTION:Están invitados a nuestra siguiente charla virtual ¿CÓMO HACER DE LA DOCENCIA ALGO ÉPICO? EL POTENCIAL Y LOS RETOS DE LA TRANSVERSALIZACIÓN DE LA SUSTENTABILIDAD este 14 de mayo a las 10:00 am (UTC-7) a través de nuestro canal de Youtube.\nLISTA DE REGISTRO: https://docs.google.com/…/1FAIpQLSf1CTqH5s…/viewform \nhttps://www.youtube.com/watch?v=DZsSQSyrePw
URL:https://cgfp.uabc.mx/event/como-hacer-de-la-docencia-algo-epico-el-potencial-y-los-retos-de-la-transversalizacion-de-la-sustentabilidad-en-la-educacion/
CATEGORIES:webinars
END:VEVENT
BEGIN:VEVENT
DTSTART;VALUE=DATE:20250512
DTEND;VALUE=DATE:20250526
DTSTAMP:20260420T133451
CREATED:20250512T181325Z
LAST-MODIFIED:20250512T185917Z
UID:9898-1747008000-1748217599@cgfp.uabc.mx
SUMMARY:Oferta de cursos de formación docente Convocatoria intersemestral 2025-1
DESCRIPTION:Estimadas y estimados miembros de la comunidad universitaria\, \nNos complace anunciar que ya se encuentran abiertas las inscripciones para los cursos de formación docente en la oferta intersemestral 2025-1.  \nLos cursos se impartirán en línea\, y están dirigidos a todos los profesores de la comunidad universitaria. \nPeriodo de inscripción: del 12 al 25 de mayo de 2025. \nPara realizar la inscripción\, favor de acceder al Sistema de Formación y Desarrollo Docente (SIFODD) a través de la siguiente dirección: https://sifodd.uabc.mx/. Deberá ingresar con su correo institucional y contraseña. \nConsulta la convocatoria a travez de la nuestro enlace de programa flexible: https://cgfp.uabc.mx/programa-flexible-de-formacion-y-desarrollo-docente/ \nSi tienen dudas o necesitan asistencia técnica o académica\, no duden en ponerse en contacto con nosotros a través del correo electrónico formaciondocente@uabc.edu.mx o a la ext 43141. \nEsperamos contar con su participación en esta oferta formativa que contribuirá al desarrollo profesional de todos. \nSaludos cordiales\, \nCoordinación General de Formación Profesional\nDepartamento de Formación y Evaluación Docente\nDr. Leonard Maldonado Zavala\nformaciondocente@uabc.edu.mx\nTel. 43141
URL:https://cgfp.uabc.mx/event/oferta-de-cursos-de-formacion-docente-convocatoria-intersemestral-2025-1/
CATEGORIES:principal
END:VEVENT
BEGIN:VEVENT
DTSTART;VALUE=DATE:20250428
DTEND;VALUE=DATE:20250701
DTSTAMP:20260420T133451
CREATED:20250428T181407Z
LAST-MODIFIED:20250428T181407Z
UID:9605-1745798400-1751327999@cgfp.uabc.mx
SUMMARY:Apertura del curso: CULTURA DE EVALUACIÓN Y MEJORA CONTINUA: LA UABC EN SINERGIA CON EL SEAES
DESCRIPTION:Lanza UABC curso institucional sobre cultura de evaluación y mejora continua\n  \nBusca fortalecer la participación docente en el proceso de autoevaluación institucional con miras a la Convocatoria del SEAES 2026 \nCon el propósito de fortalecer la cultura institucional de evaluación y mejora continua\, la Universidad Autónoma de Baja California (UABC) lanzó el curso en línea “Cultura de evaluación y mejora continua: La UABC en sinergia con el SEAES”\, dirigido al personal académico de las unidades académicas de todos los campus. \nEste curso forma parte del Programa Flexible de Formación y Desarrollo Docente y tiene como objetivo sensibilizar a la comunidad universitaria respecto al Sistema de Evaluación y Acreditación de la Educación Superior (SEAES)\, sus principios orientadores\, y su articulación con las prioridades estratégicas del Plan de Desarrollo Institucional 2023–2027 de la UABC. \nA través de cuatro módulos\, el curso permite al profesorado conocer los fundamentos legales y operativos del SEAES\, identificar los criterios e indicadores que guían la evaluación institucional\, y reflexionar sobre la alineación de su práctica docente e investigativa con estos lineamientos. Asimismo\, se enmarca en el proceso de autoevaluación institucional que actualmente desarrolla la universidad\, con miras a entregar un informe integral en el segundo semestre de 2026. \nEl curso es de carácter autogestivo\, con una duración estimada de ocho horas\, y está disponible en la plataforma institucional Blackboard. Actualmente\, todo el personal docente tiene acceso al curso a través de su cuenta institucional. \nSe han establecido tres cortes para acreditar el curso: junio y diciembre de 2025\, y junio de 2026. \nPara mayores informes\, las y los interesados pueden escribir al correo electrónico: pffdd@uabc.edu.mx. \nLa Coordinación General de Formación Profesional\, la Coordinación General de Investigación y Posgrado\, y la Coordinación de Planeación y Desarrollo Institucional convocan al personal académico a participar activamente en esta iniciativa que refuerza el compromiso de la universidad con la excelencia educativa\, la equidad\, la innovación y la responsabilidad social. \nPor: Dr. Leonard Maldonado Zavala
URL:https://cgfp.uabc.mx/event/apertura-del-curso-cultura-de-evaluacion-y-mejora-continua-la-uabc-en-sinergia-con-el-seaes/
CATEGORIES:principal
END:VEVENT
BEGIN:VEVENT
DTSTART;VALUE=DATE:20250422
DTEND;VALUE=DATE:20250423
DTSTAMP:20260420T133451
CREATED:20250422T170515Z
LAST-MODIFIED:20250422T170655Z
UID:9601-1745280000-1745366399@cgfp.uabc.mx
SUMMARY:PROGRAMA "NUESTRA SOBRILLA VERDE" SOLUCIONES BASADAS EN LA NATURALEZA
DESCRIPTION:Se les invita cordialmente a nuestra siguiente charla virtual del ciclo de sostenibilidad ¨PROGRAMA NUESTRA SOMBRILLA VERDE SOLUCIONES BASADAS EN LA NATURALEZA¨ impartida por José Carlos Perpuly este 22 de abril a las 10:30 a.m. (UTC-7) a través de nuestro canal de Youtube: https://www.youtube.com/watch?v=48RpynC64UA\nLista de registro:\nREGISTRO
URL:https://cgfp.uabc.mx/event/programa-nuestra-sobrilla-verde-soluciones-basadas-en-la-naturaleza/
CATEGORIES:webinars
END:VEVENT
BEGIN:VEVENT
DTSTART;VALUE=DATE:20250314
DTEND;VALUE=DATE:20250315
DTSTAMP:20260420T133451
CREATED:20250313T162503Z
LAST-MODIFIED:20250314T162131Z
UID:8968-1741910400-1741996799@cgfp.uabc.mx
SUMMARY:TE INVITAMOS A LA CHARLA VIRTUAL: NUEVAS PERSPECTIVAS EN LA EDUCACION\, SOSTENIBILIDAD PARA MEJORAR EL TRABAJO DOCENTE
DESCRIPTION:https://www.youtube.com/watch?v=pH4LFh7xy5Y
URL:https://cgfp.uabc.mx/event/te-invitamos-a-la-charla-virtual-nuevas-perspectivas-en-la-educacion-sostenibilidad-para-mejorar-el-trabajo-docente/
CATEGORIES:webinars
END:VEVENT
BEGIN:VEVENT
DTSTART;TZID=UTC:20250312T100000
DTEND;TZID=UTC:20250313T110000
DTSTAMP:20260420T133451
CREATED:20250312T170439Z
LAST-MODIFIED:20250312T222121Z
UID:8868-1741773600-1741863600@cgfp.uabc.mx
SUMMARY:Actualización Disciplinar y mejora de la practica docente con Coursera
DESCRIPTION:
URL:https://cgfp.uabc.mx/event/actualizacion-disciplinar-y-mejora-de-la-practica-docente-con-coursera/
CATEGORIES:webinars
END:VEVENT
BEGIN:VEVENT
DTSTART;VALUE=DATE:20250310
DTEND;VALUE=DATE:20250315
DTSTAMP:20260420T133451
CREATED:20250310T210645Z
LAST-MODIFIED:20250310T210645Z
UID:8832-1741564800-1741996799@cgfp.uabc.mx
SUMMARY:Convocatoria MOOC COURSERA 2025-4
DESCRIPTION:Estimadas y Estimados docentes  \nLa UABC realizó un convenio con COURSERA para que docentes puedan formarse en uno de sus más de 7 mil cursos disponibles\, incluyendo constancia oficial sin costo. El periodo de inscripción en esta modalidad estará abierto del 10 al 14 de marzo de 2025. \nConsideramos que es una excelente oportunidad\, son cursos de diversas dimensiones: didáctica\, enseñanza en línea\, disciplinas específicas\, investigación\, desarrollo personal\, cultura general\, entre otros. \nHay una amplia oferta de cursos en español y lenguas extranjeras. Todos de universidades y empresas de primer nivel. Se puede seleccionar cualquier curso\, certificación o programa amplio\, con excepción de licenciaturas y posgrados. \nLes recomendamos que identifiquen dentro del buscador de COURSERA en el extremo superior izquierdo con la palabra o tema de formación deseado y de esta manera les aparecerán las opciones a las cuales podrán inscribirse. \nEl cupo será limitado\, por lo que es importante hacer el registro cuanto antes\, en la siguiente dirección: \nhttps://acortar.link/x8WsiR \nPara ver opciones de cursos ingresar a: https://www.coursera.org/\n(ojo: no deben inscribirse en la web de Coursera\, primero deben registrarse en el formulario de UABC y después se les notificará la aceptación\, así como los pasos a seguir). \nEl correo de aceptación se enviará a partir del 17 de marzo y los cursos deberán concluirse antes del 6 de junio del año en curso.  \nPara mayor información\, consultar la convocatoria. \nAdemás de invitarlos a nuestra charla con el representante de Coursera Jorge Leite el próximo miércoles 12 de marzo a las 10:00 a.m.\, por nuestro canal de Youtube: Formación docente- UABC.  \n  \nCualquier duda por favor comuníquese con la\nLic. Jocelim Quiroz Olmos: quirozj50@uabc.edu.mx\, o en el teléfono: 686-551-8236 Ext. 43145 \n\nvisitar la pagina: https://cgfp.uabc.mx/coursera/ \n \nDepartamento de Formación y Evaluación Docente. \nCoordinación General de Formación Profesional
URL:https://cgfp.uabc.mx/event/convocatoria-mooc-coursera-2025-4/
CATEGORIES:principal
END:VEVENT
BEGIN:VEVENT
DTSTART;VALUE=DATE:20250303
DTEND;VALUE=DATE:20250310
DTSTAMP:20260420T133451
CREATED:20250303T211251Z
LAST-MODIFIED:20250303T234600Z
UID:8450-1740960000-1741564799@cgfp.uabc.mx
SUMMARY:Asunto: Convocatoria Semestal PFFDD para docentes 2025-1
DESCRIPTION:Estimables docentes\nNos complace informarles que a partir de hoy iniciamos la inscripción a la oferta de\ncursos de formación docente del Programa Flexible de Formación y Desarrollo\nDocente en modalidad en línea. Las inscripciones cerrarán el día 09 de marzo del\n2025. \nAdjuntamos la convocatoria con la información detallada acerca de los cursos y\nformatos disponibles.\nLa inscripción se realiza dentro de la página del Sistema de Formación y\nDesarrollo Docente: Sifodd: https://sifodd.uabc.mx/ ingresando con el correo y\ncontraseña institucionales. \nDe la misma manera les recordamos que nuestra oferta de cursos en modalidad\nautoadministrada y semiautoadministrado se encuentra abierta de manera\npermanente durante el semestre actual\, \nLos cursos que se encuentran en esta modalidad son:\n● Aplicaciones de la IA en la Docencia\n● Aprendizaje Activo\n● Blackboard para el trabajo en línea\n● Competencias básicas para la docencia\n● Conducción de cursos en línea\n● Diseño Instruccional para cursos en línea\n● Docencia\, cultura de paz y derechos humanos\n● Inducción a la docencia universitaria\n● Integridad Académica y producción científica\n● Introducción a las metodologías activas\n● Introducción al pensamiento crítico\n● Planeación para la evaluación del aprendizaje\n● Prevención de la Violencia de género\n● Uso de ChatGPT en la docencia universitaria\nY También los cursos en la oferta de MexicoX\n1)Aprender para desaprender: Aplicación didáctica\n2)Herramientas para desaprender y aprender para el aprendizaje basado en\nproyectos. \nLa liga para la inscripción a cursos en esta modalidad es la siguiente:\nhttps://shorturl.at/2fuXC\nCualquier duda favor de dirigirse a: \nDepartamento de Formación y Evaluación Docente.\nCoordinación General de Formación Profesional
URL:https://cgfp.uabc.mx/event/test/
CATEGORIES:principal
END:VEVENT
END:VCALENDAR